BEGIN:VCALENDAR
VERSION:2.0
PRODID:-// - ECPv6.15.20//NONSGML v1.0//EN
CALSCALE:GREGORIAN
METHOD:PUBLISH
X-ORIGINAL-URL:https://njguard.us
X-WR-CALDESC:Events for 
REFRESH-INTERVAL;VALUE=DURATION:PT1H
X-Robots-Tag:noindex
X-PUBLISHED-TTL:PT1H
BEGIN:VTIMEZONE
TZID:America/New_York
BEGIN:DAYLIGHT
TZOFFSETFROM:-0500
TZOFFSETTO:-0400
TZNAME:EDT
DTSTART:20250309T070000
END:DAYLIGHT
BEGIN:STANDARD
TZOFFSETFROM:-0400
TZOFFSETTO:-0500
TZNAME:EST
DTSTART:20251102T060000
END:STANDARD
BEGIN:DAYLIGHT
TZOFFSETFROM:-0500
TZOFFSETTO:-0400
TZNAME:EDT
DTSTART:20260308T070000
END:DAYLIGHT
BEGIN:STANDARD
TZOFFSETFROM:-0400
TZOFFSETTO:-0500
TZNAME:EST
DTSTART:20261101T060000
END:STANDARD
BEGIN:DAYLIGHT
TZOFFSETFROM:-0500
TZOFFSETTO:-0400
TZNAME:EDT
DTSTART:20270314T070000
END:DAYLIGHT
BEGIN:STANDARD
TZOFFSETFROM:-0400
TZOFFSETTO:-0500
TZNAME:EST
DTSTART:20271107T060000
END:STANDARD
END:VTIMEZONE
BEGIN:VEVENT
DTSTART;TZID=America/New_York:20260505T080000
DTEND;TZID=America/New_York:20260505T170000
DTSTAMP:20260425T111104
CREATED:20260425T053031Z
LAST-MODIFIED:20260425T053316Z
UID:1466-1777968000-1778000400@njguard.us
SUMMARY:INITIAL SORA TRAINING COURSE
DESCRIPTION:INITIAL SORA TRAINING COURSE DESCRIPTION(Class is 2 consective days)\n\n\n\nVitual (Online) w/ Google Meet  & Google Classroom \n\n\n\nNJ Guard Training Academy offers Security Officer Registration Act (SORA) training in Northern NJ. Classes are instructed by highly-trained\, certified\, experienced trainers with years of experience in the security industry.The SORA training course includes but is not limited to the following subject matter: \n\n\n\nStreet Gangs \n\n\n\nSecurity Officer Duties Orientation \n\n\n\nNJ Attorney General’s Use of Force Policy \n\n\n\nTerrorism Awareness \n\n\n\nCargo Theft \n\n\n\nSecurity Measures: Prevention and Deterrence \n\n\n\nNew Jersey’s Critical Infrastructure Awareness \n\n\n\nSuspicious Letters and Packages \n\n\n\nSuicide bombs and Vehicle borne improvised explosive devices (VBIED’s) \n\n\n\nFirst Aid Awareness \n\n\n\nIncident Command System \n\n\n\nEthics \n\n\n\nReport Writing
URL:https://njguard.us/class/virtual-sora-class/
LOCATION:Virtual\, South Plainfield\, United States
END:VEVENT
BEGIN:VEVENT
DTSTART;TZID=America/New_York:20260509T080000
DTEND;TZID=America/New_York:20260509T170000
DTSTAMP:20260425T111104
CREATED:20260425T053215Z
LAST-MODIFIED:20260425T053216Z
UID:1468-1778313600-1778346000@njguard.us
SUMMARY:Recertification Course
DESCRIPTION:Recertification Course Description \n\n\n\nVirtual (Online) w/ Google Meet & Google Classroom \n\n\n\nNJ Guard Training Academy offers Security Officer Registration Act (SORA) Re-Certification training in Northern NJ. Classes are instructed by highly-trained\, NJSP certified\, experienced trainers with years of experience in the security & Law enforcement industry.SORA Re-Certification training is mandated by SORA law in order to maintain your Security Officer license. Training is done locally.The SORA Re-Certification training course includes the following subject matter: \n\n\n\n\nNJ Attorney General’s Use of Force Policy\n\n\n\nEthics\n\n\n\nReport Writing\n\n\n\nGangs\n\n\n\nActive Shooter Response\n\n\n\nMissing Persons\n\n\n\n\nShow More
URL:https://njguard.us/class/recertification-course/
LOCATION:Virtual\, South Plainfield\, United States
END:VEVENT
END:VCALENDAR